BEGIN:VCALENDAR
VERSION:2.0
PRODID:-//Personeelsvereniging PWZ - ECPv6.15.20//NONSGML v1.0//EN
CALSCALE:GREGORIAN
METHOD:PUBLISH
X-WR-CALNAME:Personeelsvereniging PWZ
X-ORIGINAL-URL:https://pwz-wza.nl
X-WR-CALDESC:Evenementen voor Personeelsvereniging PWZ
REFRESH-INTERVAL;VALUE=DURATION:PT1H
X-Robots-Tag:noindex
X-PUBLISHED-TTL:PT1H
BEGIN:VTIMEZONE
TZID:UTC
BEGIN:STANDARD
TZOFFSETFROM:+0000
TZOFFSETTO:+0000
TZNAME:UTC
DTSTART:20240101T000000
END:STANDARD
END:VTIMEZONE
BEGIN:VEVENT
DTSTART;TZID=UTC:20250321T180000
DTEND;TZID=UTC:20250321T230000
DTSTAMP:20260422T012230
CREATED:20250204T104816Z
LAST-MODIFIED:20250204T104816Z
UID:1150-1742580000-1742598000@pwz-wza.nl
SUMMARY:Bowlingtoernooi 21-3-2025
DESCRIPTION:Op vrijdag 21 maart organiseren we weer ons jaarlijks bowlingtoernooi. Meer informatie over aanmelden en kosten volgt via Companypass.
URL:https://pwz-wza.nl/event/bowlingtoernooi-21-3-2025/
LOCATION:Plaza Sportz Assen\, Stelmakerstraat 17\, Assen\, Drenthe\, 9403 VB
ATTACH;FMTTYPE=image/jpeg:https://pwz-wza.nl/wp-content/uploads/2025/02/Schermopname_4-2-2025_11280_www.plazasportzassen.nl_-1.jpeg
ORGANIZER;CN="PWZ":MAILTO:pwz@wza.nl
END:VEVENT
END:VCALENDAR