BEGIN:VCALENDAR
VERSION:2.0
PRODID:-//Personeelsvereniging PWZ - ECPv6.15.20//NONSGML v1.0//EN
CALSCALE:GREGORIAN
METHOD:PUBLISH
X-ORIGINAL-URL:https://pwz-wza.nl
X-WR-CALDESC:Evenementen voor Personeelsvereniging PWZ
REFRESH-INTERVAL;VALUE=DURATION:PT1H
X-Robots-Tag:noindex
X-PUBLISHED-TTL:PT1H
BEGIN:VTIMEZONE
TZID:UTC
BEGIN:STANDARD
TZOFFSETFROM:+0000
TZOFFSETTO:+0000
TZNAME:UTC
DTSTART:20240101T000000
END:STANDARD
END:VTIMEZONE
BEGIN:VEVENT
DTSTART;TZID=UTC:20250612T164500
DTEND;TZID=UTC:20250612T171500
DTSTAMP:20260420T143601
CREATED:20250513T063236Z
LAST-MODIFIED:20250603T104632Z
UID:1210-1749746700-1749748500@pwz-wza.nl
SUMMARY:PWZ algemene ledenvergadering 12-6-2025
DESCRIPTION:Alle leden van PWZ worden uitgenodigd voor de algemene ledenvergadering op donderdag 12 juni om 16.45 uur in vergaderruimte 4. \nZie Agenda ledenvergadering PWZ 20250612 AS
URL:https://pwz-wza.nl/event/pwz-algemene-ledenvergadering-2/
LOCATION:WZA
CATEGORIES:Evenement
ATTACH;FMTTYPE=image/png:https://pwz-wza.nl/wp-content/uploads/2025/04/ledenvergadering.png
ORGANIZER;CN="PWZ":MAILTO:pwz@wza.nl
END:VEVENT
END:VCALENDAR