BEGIN:VCALENDAR
VERSION:2.0
PRODID:-//Personeelsvereniging PWZ - ECPv6.15.20//NONSGML v1.0//EN
CALSCALE:GREGORIAN
METHOD:PUBLISH
X-ORIGINAL-URL:https://pwz-wza.nl
X-WR-CALDESC:Evenementen voor Personeelsvereniging PWZ
REFRESH-INTERVAL;VALUE=DURATION:PT1H
X-Robots-Tag:noindex
X-PUBLISHED-TTL:PT1H
BEGIN:VTIMEZONE
TZID:UTC
BEGIN:STANDARD
TZOFFSETFROM:+0000
TZOFFSETTO:+0000
TZNAME:UTC
DTSTART:20230101T000000
END:STANDARD
END:VTIMEZONE
BEGIN:VEVENT
DTSTART;TZID=UTC:20241123T083000
DTEND;TZID=UTC:20241123T173000
DTSTAMP:20260423T212039
CREATED:20241105T152322Z
LAST-MODIFIED:20241108T182832Z
UID:1112-1732350600-1732383000@pwz-wza.nl
SUMMARY:Christmas World Intratuin Duiven (geannuleerd)
DESCRIPTION:De grootste kerstshow van Europa: Christmas World in Intratuin Duiven. Wandel door een bos vol kerstbomen\, kijk je ogen uit bij alle twinkelende lichtjes\, bewonder onze minidorpen en laat je verwonderen door het spektakel op de roltrap! (zie voor meer informatie www.intratuinduiven.nl)\n\nHeb je deze kerstshow nog nooit eerder bezocht? Het is zeker de moeite waard!\n\nDatum:​​ zaterdag 23 november 2024\nVertrek van WZA: aanwezig om 08:20 en vertrek met bus om 08:30\nVertrek uit Duiven: 15:30\nVerwachte aankomst bij WZA: 17:30
URL:https://pwz-wza.nl/event/christmas-world-intratuin-duiven/
LOCATION:Intratuin Duiven\, Lithograaf 1\, Duiven\, 6921 VA\, Netherlands
ATTACH;FMTTYPE=image/jpeg:https://pwz-wza.nl/wp-content/uploads/2024/11/kerst24-82-1-1.jpg
END:VEVENT
BEGIN:VEVENT
DTSTART;TZID=UTC:20241127T143000
DTEND;TZID=UTC:20241127T163000
DTSTAMP:20260423T212039
CREATED:20241105T153233Z
LAST-MODIFIED:20241105T153233Z
UID:1117-1732717800-1732725000@pwz-wza.nl
SUMMARY:Sinterklaasfeest PWZ
DESCRIPTION:Ook dit jaar organiseert PWZ weer een Sinterklaasfeest voor kinderen van PWZ-leden. Jullie zijn van harte uitgenodigd om dit feest op woensdagmiddag 27 november van 14:15 tot 16:30 uur te komen vieren bij Binnenspeeltuin Tippedoki (De Berenkuil) in Grolloo. Sinterklaas komt van 14:30 tot 16:00 uur. Kinderen kunnen dus voor en na het samenzijn met Sinterklaas ook nog even spelen in de binnenspeeltuin. Ouders zijn van harte welkom!\n\nAls je je kind(eren) opgeeft\, verplicht je je om deel te nemen aan het Sinterklaasfeest. Bij afwezigheid zijn wij genoodzaakt de gemaakte kosten van € 25\,00 bij jou in rekening te brengen.\n\nDatum: woensdag 27 november 2024\nTijd: 14.30 – 16.30 uur (Sinterklaas komt tussen 15:00 en 16:00 uur)\nLocatie: Binnenspeeltuin Tippedoki (De Berenkuil)\, De Pol 15\, Grolloo\n\nVoor wie: kinderen van PWZ-leden in de leeftijd van 3 tot en met ca. 8 jaar. (Een iets oudere broer of zus is natuurlijk ook nog welkom)
URL:https://pwz-wza.nl/event/sinterklaasfeest-pwz/
LOCATION:Binnenspeeltuin Tippedoki\, De Pol 15\, Grolloo\, 9444 XE\, Netherlands
ATTACH;FMTTYPE=image/png:https://pwz-wza.nl/wp-content/uploads/2024/11/sinterklaas-1.png
END:VEVENT
END:VCALENDAR