BEGIN:VCALENDAR
VERSION:2.0
PRODID:-//Personeelsvereniging PWZ - ECPv6.15.20//NONSGML v1.0//EN
CALSCALE:GREGORIAN
METHOD:PUBLISH
X-ORIGINAL-URL:https://pwz-wza.nl
X-WR-CALDESC:Evenementen voor Personeelsvereniging PWZ
REFRESH-INTERVAL;VALUE=DURATION:PT1H
X-Robots-Tag:noindex
X-PUBLISHED-TTL:PT1H
BEGIN:VTIMEZONE
TZID:UTC
BEGIN:STANDARD
TZOFFSETFROM:+0000
TZOFFSETTO:+0000
TZNAME:UTC
DTSTART:20240101T000000
END:STANDARD
END:VTIMEZONE
BEGIN:VEVENT
DTSTART;TZID=UTC:20250414T190000
DTEND;TZID=UTC:20250414T210000
DTSTAMP:20260423T133515
CREATED:20250206T091929Z
LAST-MODIFIED:20250210T103525Z
UID:1157-1744657200-1744664400@pwz-wza.nl
SUMMARY:Paasbloemschikken 14-4-2025
DESCRIPTION:Ook dit jaar organiseren we weer het jaarlijkse paasbloemschikken. Meer informatie over aanmelden en kosten volgt via Companypass.
URL:https://pwz-wza.nl/event/paasbloemschikken-14-4-2025/
LOCATION:Locatie Levertraan\, Europaweg-Zuid 1\, Assen\, 9401 RK\, Netherlands
CATEGORIES:Evenement
ATTACH;FMTTYPE=image/jpeg:https://pwz-wza.nl/wp-content/uploads/2025/02/bloemstuk-2-e1739183710646.jpg
ORGANIZER;CN="PWZ":MAILTO:pwz@wza.nl
END:VEVENT
BEGIN:VEVENT
DTSTART;TZID=UTC:20250415T100000
DTEND;TZID=UTC:20250415T120000
DTSTAMP:20260423T133515
CREATED:20250206T092246Z
LAST-MODIFIED:20250210T103618Z
UID:1160-1744711200-1744718400@pwz-wza.nl
SUMMARY:Paasbloemschikken 15-4-2025
DESCRIPTION:Ook dit jaar organiseren we weer het jaarlijkse paasbloemschikken. Meer informatie over aanmelden en kosten volgt via Companypass.
URL:https://pwz-wza.nl/event/paasbloemschikken-15-4-2025/
LOCATION:Locatie Levertraan\, Europaweg-Zuid 1\, Assen\, 9401 RK\, Netherlands
ATTACH;FMTTYPE=image/jpeg:https://pwz-wza.nl/wp-content/uploads/2025/02/bloemstuk-2-e1739183710646.jpg
ORGANIZER;CN="PWZ":MAILTO:pwz@wza.nl
END:VEVENT
BEGIN:VEVENT
DTSTART;TZID=UTC:20250415T190000
DTEND;TZID=UTC:20250415T210000
DTSTAMP:20260423T133515
CREATED:20250206T092406Z
LAST-MODIFIED:20250210T103647Z
UID:1162-1744743600-1744750800@pwz-wza.nl
SUMMARY:Paasbloemschikken 15-4-2025
DESCRIPTION:Ook dit jaar organiseren we weer het jaarlijkse paasbloemschikken. Meer informatie over aanmelden en kosten volgt via Companypass.
URL:https://pwz-wza.nl/event/paasbloemschikken-15-4-2025-2/
LOCATION:Locatie Levertraan\, Europaweg-Zuid 1\, Assen\, 9401 RK\, Netherlands
ATTACH;FMTTYPE=image/jpeg:https://pwz-wza.nl/wp-content/uploads/2025/02/bloemstuk-2-e1739183710646.jpg
END:VEVENT
BEGIN:VEVENT
DTSTART;TZID=UTC:20250416T190000
DTEND;TZID=UTC:20250416T210000
DTSTAMP:20260423T133515
CREATED:20250206T092511Z
LAST-MODIFIED:20250210T103714Z
UID:1164-1744830000-1744837200@pwz-wza.nl
SUMMARY:Paasbloemschikken 16-4-2025
DESCRIPTION:Ook dit jaar organiseren we weer het jaarlijkse paasbloemschikken. Meer informatie over aanmelden en kosten volgt via Companypass.
URL:https://pwz-wza.nl/event/paasbloemschikken-16-4-2025/
LOCATION:Locatie Levertraan\, Europaweg-Zuid 1\, Assen\, 9401 RK\, Netherlands
ATTACH;FMTTYPE=image/jpeg:https://pwz-wza.nl/wp-content/uploads/2025/02/bloemstuk-2-e1739183710646.jpg
END:VEVENT
END:VCALENDAR