BEGIN:VCALENDAR
VERSION:2.0
PRODID:-//Personeelsvereniging PWZ - ECPv6.15.20//NONSGML v1.0//EN
CALSCALE:GREGORIAN
METHOD:PUBLISH
X-WR-CALNAME:Personeelsvereniging PWZ
X-ORIGINAL-URL:https://pwz-wza.nl
X-WR-CALDESC:Evenementen voor Personeelsvereniging PWZ
REFRESH-INTERVAL;VALUE=DURATION:PT1H
X-Robots-Tag:noindex
X-PUBLISHED-TTL:PT1H
BEGIN:VTIMEZONE
TZID:UTC
BEGIN:STANDARD
TZOFFSETFROM:+0000
TZOFFSETTO:+0000
TZNAME:UTC
DTSTART:20240101T000000
END:STANDARD
END:VTIMEZONE
BEGIN:VEVENT
DTSTART;TZID=UTC:20250513T180000
DTEND;TZID=UTC:20250513T210000
DTSTAMP:20260423T115939
CREATED:20250210T105114Z
LAST-MODIFIED:20250210T111603Z
UID:1177-1747159200-1747170000@pwz-wza.nl
SUMMARY:Kookworkshop 13-5-2025
DESCRIPTION:Ook dit jaar organiseren we weer een aantal kookworkshops. Het thema deze keer is Grieks. Meer informatie over aanmelden en kosten volgt via Companypass.
URL:https://pwz-wza.nl/event/kookworkshop-13-5-2025/
LOCATION:Kokerij Suytvelde\, Reeweg 8\, Zuidvelde\, Netherlands
ATTACH;FMTTYPE=image/png:https://pwz-wza.nl/wp-content/uploads/2025/02/Griekse-salade-1.png
ORGANIZER;CN="PWZ":MAILTO:pwz@wza.nl
END:VEVENT
BEGIN:VEVENT
DTSTART;TZID=UTC:20250515T180000
DTEND;TZID=UTC:20250515T210000
DTSTAMP:20260423T115939
CREATED:20250210T105305Z
LAST-MODIFIED:20250210T111622Z
UID:1183-1747332000-1747342800@pwz-wza.nl
SUMMARY:Kookworkshop 15-5-2025
DESCRIPTION:Ook dit jaar organiseren we weer een aantal kookworkshops. Het thema deze keer is Grieks. Meer informatie over aanmelden en kosten volgt via Companypass.
URL:https://pwz-wza.nl/event/kookworkshop-15-5-2025/
LOCATION:Kokerij Suytvelde\, Reeweg 8\, Zuidvelde\, Netherlands
ATTACH;FMTTYPE=image/png:https://pwz-wza.nl/wp-content/uploads/2025/02/Griekse-salade.png
END:VEVENT
BEGIN:VEVENT
DTSTART;TZID=UTC:20250517T090000
DTEND;TZID=UTC:20250517T170000
DTSTAMP:20260423T115939
CREATED:20250206T113614Z
LAST-MODIFIED:20250206T113614Z
UID:1168-1747472400-1747501200@pwz-wza.nl
SUMMARY:Motortoertocht 17-5-2025
DESCRIPTION:PWZ organiseert ook dit jaar weer een motortoertocht. \nMeer informatie over aanmelden en kosten volgt via Companypass.
URL:https://pwz-wza.nl/event/motortoertocht-17-5-2025/
ATTACH;FMTTYPE=image/png:https://pwz-wza.nl/wp-content/uploads/2025/02/foto-motortoertocht.png
ORGANIZER;CN="PWZ":MAILTO:pwz@wza.nl
END:VEVENT
BEGIN:VEVENT
DTSTART;TZID=UTC:20250520T180000
DTEND;TZID=UTC:20250520T210000
DTSTAMP:20260423T115939
CREATED:20250210T105410Z
LAST-MODIFIED:20250210T105418Z
UID:1185-1747764000-1747774800@pwz-wza.nl
SUMMARY:Kookworkshop 20-5-2025
DESCRIPTION:Ook dit jaar organiseren we weer een aantal kookworkshops. Het thema deze keer is Grieks. Meer informatie over aanmelden en kosten volgt via Companypass.
URL:https://pwz-wza.nl/event/kookworkshop-20-5-2025/
ATTACH;FMTTYPE=image/png:https://pwz-wza.nl/wp-content/uploads/2025/02/Griekse-salade.png
END:VEVENT
END:VCALENDAR